BEGIN:VCALENDAR
VERSION:2.0
PRODID:-//eventon.com NONSGML v1.0//EN
BEGIN:VEVENT
UID:69e5d5a912cbb
DTSTAMP:20260420T032841
DTSTART:20201014T170000Z
DTEND:20201014T190000Z
LOCATION:
SUMMARY:Velorio P.L.A.B (Q.E.P.D)
DESCRIPTION: Por condiciones de fuerza mayor el Velorio sera realizado via online\,  puedes solicitar ser invitado completando el formulario más abajo. En el recibirás las indicaciones de como participar.
URL:https://www.webdelrecuerdo.cl/events/velorio-p-l-a-b-q-e-p-d/
END:VEVENT
END:VCALENDAR