BEGIN:VCALENDAR
VERSION:2.0
PRODID:-//eventon.com NONSGML v1.0//EN
BEGIN:VEVENT
UID:69e5d5a88a0b7
DTSTAMP:20260420T032840
DTSTART:20201015T170000Z
DTEND:20201015T190000Z
LOCATION:
SUMMARY:Funeral P.L.A.B (Q.E.P.D)
DESCRIPTION: Por condiciones de fuerza mayor el Funeral sera realizado via online\,  puedes solicitar ser invitado completando el formulario más abajo. En el recibirás las indicaciones de como participar.
URL:https://www.webdelrecuerdo.cl/events/test-2-evento/
END:VEVENT
END:VCALENDAR